BEGIN:VCALENDAR
VERSION:2.0
PRODID:-//Lost in Frenchlation - ECPv6.15.12.2//NONSGML v1.0//EN
CALSCALE:GREGORIAN
METHOD:PUBLISH
X-ORIGINAL-URL:https://lostinfrenchlation.com
X-WR-CALDESC:Events for Lost in Frenchlation
REFRESH-INTERVAL;VALUE=DURATION:PT1H
X-Robots-Tag:noindex
X-PUBLISHED-TTL:PT1H
BEGIN:VTIMEZONE
TZID:Europe/Helsinki
BEGIN:DAYLIGHT
TZOFFSETFROM:+0200
TZOFFSETTO:+0300
TZNAME:EEST
DTSTART:20200329T010000
END:DAYLIGHT
BEGIN:STANDARD
TZOFFSETFROM:+0300
TZOFFSETTO:+0200
TZNAME:EET
DTSTART:20201025T010000
END:STANDARD
BEGIN:DAYLIGHT
TZOFFSETFROM:+0200
TZOFFSETTO:+0300
TZNAME:EEST
DTSTART:20210328T010000
END:DAYLIGHT
BEGIN:STANDARD
TZOFFSETFROM:+0300
TZOFFSETTO:+0200
TZNAME:EET
DTSTART:20211031T010000
END:STANDARD
BEGIN:DAYLIGHT
TZOFFSETFROM:+0200
TZOFFSETTO:+0300
TZNAME:EEST
DTSTART:20220327T010000
END:DAYLIGHT
BEGIN:STANDARD
TZOFFSETFROM:+0300
TZOFFSETTO:+0200
TZNAME:EET
DTSTART:20221030T010000
END:STANDARD
END:VTIMEZONE
BEGIN:VEVENT
DTSTART;TZID=Europe/Helsinki:20210903T200000
DTEND;TZID=Europe/Helsinki:20210903T200000
DTSTAMP:20260425T011358
CREATED:20210814T073237Z
LAST-MODIFIED:20250723T093615Z
UID:9761-1630699200-1630699200@lostinfrenchlation.com
SUMMARY:Passion Simple
DESCRIPTION:Lost in Frenchlation presents: Passion Simple \n💥 WE ARE BACK\n📹 Meet the director! \n☞ SUMMARY: \n🎞️ FILM: ‘Passion Simple’ directed by Danielle Arbid (99min)\n🎬 DATE & TIME: Friday 3 September\, drinks at the cinema bar from 7PM (reserved tables for Lost in Frenchlation guests)\, screening at 8PM\, followed by a Q&A with the director!\n📽️ CINEMA: L’Entrepôt\, 7 rue Francis de Pressensé\, 75014 Paris\n🎟 TICKETS: €8.50 full price; €7 for students and all other concessions: https://lc.cx/6OVDXc \n☞ DETAILS: \nPassion is never out of fashion in French cinema\, especially when a certain self-destructive component is involved. But France has been more committed than any other nation to giving amour fou a specifically female spin. A Cannes label film\, Passion Simple is a compelling\, formally adventurous drama highlighting a superb performance by Laetitia Dosch. \n☞THE MOVIE: \n“Since last September I have done nothing but wait for a man : for him to call me and come to my place… Everything about him was so precious to me\, his eyes\, his mouth\, his penis\, his childhood memories\, his voice…” – Synopsis \n« Finally\, Franco-Lebanese director Danielle Arbid has taken a gutsy stab at it\, with a compelling study of obsessive desire that honors its source with an unblinking female gaze. ». – Variety \nWatch the trailer with English subtitles here: https://youtu.be/Q3jYP-Ns2O8 \n☞THE PLAN: \nWe will be kicking the night off with drinks at the cinema’s bar from 7pm\, followed by the screening of the movie at 8pm and the Q&A at 9:30pm. Tickets available online here: https://lc.cx/6OVDXc (please reserve early to avoid disappointment).\n❗️Covid-19 era sanitary measures: compulsory health pass. \nWe can’t wait to see you again after the summer break! \n🎬 The Lost in Frenchlation & & Entrepôt team
URL:https://lostinfrenchlation.com/event/passion-simple
LOCATION:L’Entrepôt\, 7 rue Francis de Pressensé\, Paris\, 75014\, France
CATEGORIES:Paris
ATTACH;FMTTYPE=image/png:https://lostinfrenchlation.com/wp-content/uploads/PassionSimple.png
ORGANIZER;CN="Manon":MAILTO:lostinfrenchlation@gmail.com
END:VEVENT
BEGIN:VEVENT
DTSTART;TZID=Europe/Helsinki:20210910T190000
DTEND;TZID=Europe/Helsinki:20210910T210000
DTSTAMP:20260425T011358
CREATED:20210821T083802Z
LAST-MODIFIED:20250723T093615Z
UID:9769-1631300400-1631307600@lostinfrenchlation.com
SUMMARY:Benedetta
DESCRIPTION:🍿 Movie themed surprise recipe cooked by Les Popcorn! \n☞ SUMMARY: \n🎞️ FILM: ‘Benedetta’ directed by Paul Verhoeven (131min)\n🎬 DATE & TIME: Friday 10 September\, drinks and Les Popcorn finger food available at the cinema bar from 7PM\, screening at 8PM.\n📽️ CINEMA: Club de L’Étoile\, 14 Rue Troyon\, 75017 Paris\n🎟 TICKETS: €10 full price; €8 for students and all other concessions: https://clubdeletoile-vad.cotecine.fr/reserver/F270749❗️Covid-19 era sanitary measures: compulsory health pass. \n☞ DETAILS: \nLost in Frenchlation has teamed up with Les Popcorn for the first time to offer you a movie-themed surprise recipe once a month! Our first pick is BENEDETTA – a ‘torrid melodrama’ about two gorgeous nuns having an affair in a 17th-Century convent – directed by the maker of Basic Instinct. \n☞THE MOVIE: \n“In the late 17th century\, with plague ravaging the land\, Benedetta Carlini joins the convent in Pescia\, Tuscany\, as a novice. Capable from an early age of performing miracles\, Benedetta’s impact on life in the community is immediate and momentous.” – Synopsis \n« Benedetta is a substantial\, sophisticated\, yet briskly paced and always highly entertaining drama\, which balances quiet scenes of shrewd backroom politicking with lurid scenes of wild religious madness. » – BBC \nWatch the trailer with English subtitles here: https://youtu.be/aOjjENfjyuo \n☞THE PLAN: \nWe will be kicking the night off with drinks and snacks (movie-themed finger food & cocktail\, popcorn and other drinks also available) at the cinema’s bar from 7pm\, followed by the screening of the movie at 8pm. Tickets available online here: https://clubdeletoile-vad.cotecine.fr/reserver/F270749 (please reserve early to avoid disappointment).\n❗️Covid-19 era sanitary measures: compulsory health pass \nDon’t miss our first collaboration with Les Popcorn – a secret movie-themed recipe with an Italian touch! \nClick here to see the Facebook event and to stay updated: https://www.facebook.com/events/562792581739224/ \n🎬 The Lost in Frenchlation\, Les Popcorn & Club de L’Etoile team \nhttp://lespopcorn.com
URL:https://lostinfrenchlation.com/event/benedetta
LOCATION:Club de L’Étoile\, 14\, rue Troyon\, Paris\, 75017\, France
CATEGORIES:Paris
ATTACH;FMTTYPE=image/png:https://lostinfrenchlation.com/wp-content/uploads/Benedetta.png
ORGANIZER;CN="Manon":MAILTO:lostinfrenchlation@gmail.com
END:VEVENT
BEGIN:VEVENT
DTSTART;TZID=Europe/Helsinki:20210918T193000
DTEND;TZID=Europe/Helsinki:20210918T220000
DTSTAMP:20260425T011358
CREATED:20210811T171645Z
LAST-MODIFIED:20250723T093615Z
UID:9757-1631993400-1632002400@lostinfrenchlation.com
SUMMARY:Champs Élysées Film Festival
DESCRIPTION:✨ SPECIAL SCREENING – premiere in the presence of the film crew + rooftop drinks \n☞ SUMMARY: \n🎞️ FILM: Premiere of « Nous » (« We ») by Alice Diop (117 min)\n🎬 DATE & TIME: Saturday 18th September\, drinks on Publicis cinema rooftop at 7:30pm\, screening at 8:30pm followed by a Q&A with cast & crew.\n📽️ CINEMA: Publicis Cinémas 129 Av des Champs-Elysées\, 75008 Paris\n🎟TICKETS: €25 in early bird; €30 normal price – the ticket gives access to the rooftop cocktail hour – 2 alcoholic drinks (incl. champagne) & unlimited soft drinks. Available ONLINE ONLY: https://www.weezevent.com/lost-in-frenchlation-x-champs-elysees-film-festival-present-nous \n☞ DETAILS: \nLost in Frenchlation is thrilled to be working together with the Champs-Elysées Film Festival again to bring you a premiere of ‘Nous’ as part of the highly anticipated 10th anniversary edition! To make the evening even more special\, the screening will be followed by a Q&A with the film crew and preceded by a cocktail hour on one of the most beautiful rooftops in Paris with an unforgettable view of the (wrapped) Arc de Triomphe\, Christo’s new temporary work … ✨ \n☞THE MOVIE: \nWE is a collection of small islands brought together in a film that grasps something of life in modern-day France’s suburbs and inner cities. \n“Alice Diop transcends first-person documentary form in her tender and delicate WE” – MUBI\n« An outwardly modest observational doc that builds cleverly into an epic intellectual interrogation of France’s multicultural project » – VARIETY \nWatch the trailer with English subs here: https://youtu.be/7CizkuFXQXg \n☞THE PLAN: \nThe screening will be hosted at Publicis Cinémas located on the iconic Champs-Élysées at 8:30pm\, followed by a Q&A with the film crew. Lost in Frenchlation ticket holders will be able to enjoy a cocktail hour on the rooftop of the cinema facing the (wrapped) Arc de Triomphe from 7:30pm with music\, snacks and drinks (including champagne) for just €30! \nDid you know? \nOn view for 16 days from Saturday\, September 18th\, « L’Arc de Triomphe\, Wrapped » a temporary work of art by Christo\, will use 25\,000 square meters of recyclable polypropylene fabric in silvery blue\, and 3\,000 meters of red rope of the same fabric. \nLost in Frenchlation is truly excited to play a role in bringing you this rare opportunity to experience yet another aspect of Paris’ rich cinema culture. We hope that you’ll join us to experience the Champs-Elysées Film Festival with the Lost in Frenchlation touch – it will be an evening you won’t forget! \nClick here to see the Facebook event and to stay updated: https://www.facebook.com/events/2625055617789151/ \n🎬 The Lost in Frenchlation and Champs-Élysées Film Festival team
URL:https://lostinfrenchlation.com/event/champs-elysees-film-festival
LOCATION:Publicis cinéma\, 129 avenue des Champs-Élysées\, Paris\, 75008\, France
CATEGORIES:Paris
ATTACH;FMTTYPE=image/png:https://lostinfrenchlation.com/wp-content/uploads/LIFCEFF2.png
ORGANIZER;CN="Manon":MAILTO:lostinfrenchlation@gmail.com
END:VEVENT
BEGIN:VEVENT
DTSTART;TZID=Europe/Helsinki:20210923T190000
DTEND;TZID=Europe/Helsinki:20210923T220000
DTSTAMP:20260425T011358
CREATED:20210828T083507Z
LAST-MODIFIED:20250723T093615Z
UID:9777-1632423600-1632434400@lostinfrenchlation.com
SUMMARY:OSS 117: From Africa with Love
DESCRIPTION:🇫🇷 in partnership with Clap Français – Learn French through films! \n☞ SUMMARY: \n🎞️ FILM: ‘OSS 117: Alerte Rouge en Afrique Noire’ (« OSS 117: From Africa with Love ») directed by Nicolas Bedos (116min)\n🎬 DATE & TIME: Thursday 23 September\, drinks at the cinema bar from 7PM\, screening at 8PM\n📽️ CINEMA: Luminor Hôtel de Ville\, 20 Rue du Temple\, 75004 Paris\n🎟 TICKETS: €10 full price; €8 for students and all other concessions. Online bookings recommended! https://www.luminor-hoteldeville.com/reserver/ ❗️Compulsory health pass \n☞ DETAILS: \nThe 2021 Cannes Film Festival was closed on a light note\, with French spy spoof OSS 117: From Africa With Love\, a Gallic twist on James Bond by way of Pink Panther. The first two parodic films of the “OSS 117” franchise\, which were directed by “The Artist” helmer Michel Hazanavicius\, were major B.O. hits in France and traveled around the world! We have teamed up with Clap Français to offer you a French learning experience around the 3 films… More info below! \n☞THE MOVIE: \n1981. Hubert Bonisseur de La Bath\, alias OSS 117\, is back. He has aged\, but he is still just as pretentious. For this new delicate\, perilous and torrid mission\, he has to team up with his young colleague\, the promising OSS 1001 played by Pierre Niney. – Synopsis \n« This is an entertaining popcorn movie that’s also a healthy satire of imperialist self-assurance\, perhaps best summed up by Hubert’s sincere belief that everybody on Earth wishes they were French. ». – Deadline \nWatch the trailer with English subtitles here: https://youtu.be/mjjXRLWXiZM \n☞THE PLAN: \nWe will be kicking the night off with drinks at the cinema’s bar from 7pm\, followed by the screening of the movie at 8pm. Tickets available online here: https://www.luminor-hoteldeville.com/reserver/ (please reserve early to avoid disappointment).\n🇫🇷 If you love French cinema and are looking for a fun way to brush up on your French\, we have teamed up with Clap Français to offer French-learning experiences to enjoy with OSS 117… Join us for two free Live Lessons on Youtube on September 13 and 20 at 1:30pm\, and a special Ciné-Club on the last OSS 117 movie! The course will be hosted hosted by Marion\, an Alliance Française certified language teacher who graduated with a master degree in Cinema.What do you say? Learning French with Jean Dujardin sounds like a good plan? Sign up here for more information: https://forms.gle/ndntiz2zzTRSuCt97 \n“Times have changed — he hasn’t.” Don’t miss the opportunity to see OSS 117 – Alerte Rouge en Afrique Noire with English subtitles on a big screen\, 12 years after the last OSS 117! \nClick here to see the Facebook event and to stay updated: https://www.facebook.com/events/977465643037018 \n🎬 The Lost in Frenchlation\, Clap Français & Luminor Hôtel de Ville team
URL:https://lostinfrenchlation.com/event/oss-117-from-africa-with-love
LOCATION:Luminor Hôtel de Ville\, 20\, rue du temple\, Paris\, 75004\, France
CATEGORIES:Paris
ATTACH;FMTTYPE=image/png:https://lostinfrenchlation.com/wp-content/uploads/OSS117.png
ORGANIZER;CN="Manon":MAILTO:lostinfrenchlation@gmail.com
END:VEVENT
END:VCALENDAR