BEGIN:VCALENDAR
VERSION:2.0
PRODID:-//Lost in Frenchlation - ECPv6.15.12.2//NONSGML v1.0//EN
CALSCALE:GREGORIAN
METHOD:PUBLISH
X-WR-CALNAME:Lost in Frenchlation
X-ORIGINAL-URL:https://lostinfrenchlation.com
X-WR-CALDESC:Events for Lost in Frenchlation
REFRESH-INTERVAL;VALUE=DURATION:PT1H
X-Robots-Tag:noindex
X-PUBLISHED-TTL:PT1H
BEGIN:VTIMEZONE
TZID:Europe/Helsinki
BEGIN:DAYLIGHT
TZOFFSETFROM:+0200
TZOFFSETTO:+0300
TZNAME:EEST
DTSTART:20200329T010000
END:DAYLIGHT
BEGIN:STANDARD
TZOFFSETFROM:+0300
TZOFFSETTO:+0200
TZNAME:EET
DTSTART:20201025T010000
END:STANDARD
BEGIN:DAYLIGHT
TZOFFSETFROM:+0200
TZOFFSETTO:+0300
TZNAME:EEST
DTSTART:20210328T010000
END:DAYLIGHT
BEGIN:STANDARD
TZOFFSETFROM:+0300
TZOFFSETTO:+0200
TZNAME:EET
DTSTART:20211031T010000
END:STANDARD
BEGIN:DAYLIGHT
TZOFFSETFROM:+0200
TZOFFSETTO:+0300
TZNAME:EEST
DTSTART:20220327T010000
END:DAYLIGHT
BEGIN:STANDARD
TZOFFSETFROM:+0300
TZOFFSETTO:+0200
TZNAME:EET
DTSTART:20221030T010000
END:STANDARD
END:VTIMEZONE
BEGIN:VEVENT
DTSTART;TZID=Europe/Helsinki:20210701T183000
DTEND;TZID=Europe/Helsinki:20210701T203000
DTSTAMP:20260425T022228
CREATED:20210620T082102Z
LAST-MODIFIED:20250723T093615Z
UID:9721-1625164200-1625171400@lostinfrenchlation.com
SUMMARY:Garçon Chiffon
DESCRIPTION:💥 First HYBRID Screening – watch it at home or at the cinema\, and take part in the Q&A either way\n🌟 Fête du Cinéma – 4€ only\n🎙Screening followed by a Q&A with the director & translator \n☞ SUMMARY: \n🎞️ FILM: ‘Garçon Chiffon’ (« My Best Part ») directed by Nicolas Maury (1H48min)\n🎬 DATE & TIME: Thursday 1st July\, 6:30PM\, followed by a Q&A with the director and the translator at 8:30PM\n📽️ CINEMA: At home or at L’Entrepôt\, 7 rue Francis de Pressensé\, 75014 Paris\n🎟 TICKETS: In the physical theatre of L’Entrepôt: €4 only! Covid-19 era sanitary measures apply – online bookings recommended: https://www.ticketingcine.fr/index.php?lang=fr&nc=0379&ids=26959\nIn the virtual theatre of L’Entrepôt\, available anywhere in France: 5€ https://sallevirtuelle.25eheure.com/seance/9861 \n☞ DETAILS: \nOn shades of Xavier Dolan’s barbed and flamboyant mom-centric cinema\, Nicolas Maury crafts his own starring vehicle in My Best Part (Garçon chiffon) as a Parisian queer actor whose professional and personal lives suddenly crumble\, partially thanks to his own strangulation of them. Screening followed by a Q&A with the director & translator! \n☞THE MOVIE: \nUpcoming actor Jérémie is going through an existential crisis. Pathologically jealous and plagued by romantic\, professional and familial misadventures\, he flees Paris to reset in the country with his mother – who turns out to be more than a little invasive… – Synopsis \n« A bittersweet comedy-drama that manages to be hilarious in one scene and extremely touching in the next. » Hollywood Reporter\n« Very funny but also very moving work\, in a Woody Allen style.  » Cineuropa \nWatch the trailer with English subtitles here: https://youtu.be/1ZHPem–jik \n☞THE PLAN: \nONSITE The physical screening will take place at 6:30PM at L’Entrepôt cinema. Tickets available online here: https://www.ticketingcine.fr/index.php?lang=fr&nc=0379&ids=26959 (please reserve early to avoid disappointment).\n❗️Covid-19 era sanitary measures\, drawn up by French health authorities\, include the obligatory wearing of masks\, the cleaning of the theatre at least twice a day\, and buying your ticket online is recommended. \nONLINE Want to participate online? Click here https://sallevirtuelle.25eheure.com/seance/9861 or Sign up today on: https://www.25eheure.com/ Select « Garçon Chiffon »\, Lost in Frenchlation and the July 1st session. As this is a local e-cinema platform and not a streaming platform\, you will be asked to geolocate yourself\, in order to respect the platform’s charter which limits the radius to France only. Once you have purchased your e-ticket\, you will receive a connection link by email and all you will have to do is connect on the day of the screening\, a few minutes before the start of the film. \nDon’t miss the opportunity to ask all of your questions to the director and the translator afterwards! \nClick here (https://www.facebook.com/events/354746022690866/) to see the Facebook Event. \n🎬 The Lost in Frenchlation & Entrepôt team
URL:https://lostinfrenchlation.com/event/garcon-chiffon
LOCATION:L’Entrepôt\, 7 rue Francis de Pressensé\, Paris\, 75014\, France
CATEGORIES:Paris
ATTACH;FMTTYPE=image/png:https://lostinfrenchlation.com/wp-content/uploads/GarconChiffon.png
ORGANIZER;CN="Manon":MAILTO:lostinfrenchlation@gmail.com
END:VEVENT
BEGIN:VEVENT
DTSTART;TZID=Europe/Helsinki:20210708T200000
DTEND;TZID=Europe/Helsinki:20210708T220000
DTSTAMP:20260425T022228
CREATED:20210626T081656Z
LAST-MODIFIED:20250723T093615Z
UID:9730-1625774400-1625781600@lostinfrenchlation.com
SUMMARY:Les Deux Alfred
DESCRIPTION:☞ SUMMARY: \n🎞️ FILM: ‘Les Deux Alfred’ (« French Tech ») directed by Bruno Podalydès (1h32min)\n🎬 DATE & TIME: Thursday 8 July\, 8PM\n📽️ CINEMA: Luminor Hôtel de Ville\, 20 Rue du Temple\, 75004 Paris\n🎟 TICKETS: €10 full price; €8 for students and all other concessions. Covid-19 era sanitary measures apply – online bookings recommended! https://www.luminor-hoteldeville.com/reserver/ \n☞ DETAILS: \nLes Deux Alfred (French Tech) is an upbeat yet moving comedy about characters overwhelmed by the modern world and new technologies\, who need to stick together to get by. \n☞THE MOVIE: \nAlexandre is unemployed and his bank account has been frozen. His wife is on a two-month top secret nuclear submarine mission. While she’s away\, he has to prove that he can take care of the children and find a job. Following a surreal interview\, he is hired at The Box on a trial basis – and thus Alexandre enters the 24-7 world of a greenwashed start-up with a strict no-child policy. He meets Arcimboldo\, who juggles different jobs and apps and offers to look after the kids in exchange for accommodation. Between Alexandre’s killer colleague Severine\, incessant conference calls and endless team building sessions\, keeping his secret is no easy challenge… – Synopsis \n« There are a lot of laughs\, but behind the tenderness\, humour and poetic charm\, Bruno Podalydès’ film presents a chilling analysis of the world of business – particularly harsh for fifty-somethings – where algorithms rule and humans are becoming more like machines while machines become more like humans. ». – Cannes Film Festival \nWatch the trailer with English subtitles here: https://youtu.be/JgDiO4znpVg \n☞THE PLAN: \nThe screening will take place at 8PM at cinéma Luminor Hôtel de Ville\, located in the area of Le Marais\, by Centre Pompidou. Tickets available online here: https://www.luminor-hoteldeville.com/reserver/ (please reserve early to avoid disappointment).\n❗️Covid-19 era sanitary measures\, drawn up by French health authorities\, include the obligatory wearing of masks\, the cleaning of the theatre at least twice a day\, and buying your ticket online is recommended. \nDon’t miss our last screening before summer break! \n🎬 The Lost in Frenchlation & Luminor team
URL:https://lostinfrenchlation.com/event/les-deux-alfred
LOCATION:Luminor Hôtel de Ville\, 20\, rue du temple\, Paris\, 75004\, France
CATEGORIES:Paris
ATTACH;FMTTYPE=image/png:https://lostinfrenchlation.com/wp-content/uploads/FrenchTech.png
ORGANIZER;CN="Manon":MAILTO:lostinfrenchlation@gmail.com
END:VEVENT
BEGIN:VEVENT
DTSTART;TZID=Europe/Helsinki:20210714T200000
DTEND;TZID=Europe/Helsinki:20210714T220000
DTSTAMP:20260425T022228
CREATED:20210703T084740Z
LAST-MODIFIED:20250723T093615Z
UID:9738-1626292800-1626300000@lostinfrenchlation.com
SUMMARY:La Fille du 14 Juillet
DESCRIPTION:🇫🇷 French National Day special \n🎬 As part of MyFrenchFilmFestival Cannes Special Edition \n☞ SUMMARY: \n🎞️ FILM: 🇫🇷 ‘La Fille du 14 Juillet’ (‘The Rendez-Vous of Déjà-Vu’) directed by Antonin Peretjatko (1h28min)  \n🎬 DATE & TIME: Wednesday 14th of July @8M (not to miss the fireworks!) \n📽️ CINEMA: HOME – available anywhere in France! \n🎟 TICKETS: €5 https://sallevirtuelle.25eheure.com/seance/9874 \n☞ DETAILS: \nFor French National Day\, as part of MyFrenchFilmFestival Cannes Special Edition\, join our virtual screening of ‘La Fille du 14 Juillet’! This irreverent\, absurdist comedy overtly steals the spirit and style of a sacred tradition of French New Wave cinema\, romanticizing its ethos while charmingly parodying the stereotypes that populate Gallic movies. From the Quinzaine\, a summery dose of pure Frenchness. \n☞THE MOVIE: \nSince Hector encountered Truquette at the Louvre on July 14th\, he’s only had one thing in mind: to seduce this girl who he’s mad about. The best way to do so is to take her to the seaside. His pal Pator agrees wholeheartedly\, particularly if she comes along with her friend Charlotte. – Synopsis \n« With ricocheting references to France’s tradition of violent uprisings\, Peretjatko gleefully unleashes the brazen energy of youth—on both sides of the camera. » – The New Yorker \nWatch the trailer with English subtitles here: https://youtu.be/J5aH7ODh0cQ \n☞THE PLAN: \nWant to participate? Click here https://sallevirtuelle.25eheure.com/seance/9874  or Sign up today on: https://www.25eheure.com/ \nSelect « La Fille du 14 Juillet»\, Lost in Frenchlation and the July 14th session. \nAs this is a local e-cinema platform and not a streaming platform\, you will be asked to geolocate yourself\, in order to respect the platform’s charter which limits the radius to France only. Once you have purchased your e-ticket\, you will receive a connection link by email and all you will have to do is connect on the day of the screening\, a few minutes before the start of the film. \n🎬 The Lost in Frenchlation and 25e Heure Team
URL:https://lostinfrenchlation.com/event/la-fille-du-14-juillet
CATEGORIES:Paris
ATTACH;FMTTYPE=image/png:https://lostinfrenchlation.com/wp-content/uploads/14Juillet.png
ORGANIZER;CN="Manon":MAILTO:lostinfrenchlation@gmail.com
END:VEVENT
END:VCALENDAR