BEGIN:VCALENDAR
VERSION:2.0
PRODID:-//Lost in Frenchlation - ECPv6.15.12.2//NONSGML v1.0//EN
CALSCALE:GREGORIAN
METHOD:PUBLISH
X-ORIGINAL-URL:https://lostinfrenchlation.com
X-WR-CALDESC:Events for Lost in Frenchlation
REFRESH-INTERVAL;VALUE=DURATION:PT1H
X-Robots-Tag:noindex
X-PUBLISHED-TTL:PT1H
BEGIN:VTIMEZONE
TZID:Europe/Helsinki
BEGIN:DAYLIGHT
TZOFFSETFROM:+0200
TZOFFSETTO:+0300
TZNAME:EEST
DTSTART:20190331T010000
END:DAYLIGHT
BEGIN:STANDARD
TZOFFSETFROM:+0300
TZOFFSETTO:+0200
TZNAME:EET
DTSTART:20191027T010000
END:STANDARD
BEGIN:DAYLIGHT
TZOFFSETFROM:+0200
TZOFFSETTO:+0300
TZNAME:EEST
DTSTART:20200329T010000
END:DAYLIGHT
BEGIN:STANDARD
TZOFFSETFROM:+0300
TZOFFSETTO:+0200
TZNAME:EET
DTSTART:20201025T010000
END:STANDARD
BEGIN:DAYLIGHT
TZOFFSETFROM:+0200
TZOFFSETTO:+0300
TZNAME:EEST
DTSTART:20210328T010000
END:DAYLIGHT
BEGIN:STANDARD
TZOFFSETFROM:+0300
TZOFFSETTO:+0200
TZNAME:EET
DTSTART:20211031T010000
END:STANDARD
END:VTIMEZONE
BEGIN:VEVENT
DTSTART;TZID=Europe/Helsinki:20201204T200000
DTEND;TZID=Europe/Helsinki:20201204T220000
DTSTAMP:20260426T043938
CREATED:20201121T094815Z
LAST-MODIFIED:20250723T093635Z
UID:9499-1607112000-1607119200@lostinfrenchlation.com
SUMMARY:Jumbo
DESCRIPTION:SUNDANCE 2020\nBERLINALE 2020\n\n☞ SUMMARY:\n FILM: ‘Jumbo’ directed by Zoé Wittock (93min)\n DATE & TIME: Friday 4th December @8PM\, Q&A with the director @9:30PM\n CINEMA: HOME – available anywhere in France! (Partner cinema: L’Entrepôt) and… AUSTRALIA!\n TICKETS: €5 Link for France: https://sallevirtuelle.25eheure.com/seance/3703/ \nLink for Australia: https://sallevirtuelle.25eheure.com/seance/3713/ \n\n☞ DETAILS:\n\n All aboard! Lost in Frenchlation is taking you for a ride with « Jumbo»\, followed by a discussion with the director\, 100% online! Based on a true story (by the real-life woman who married the Eiffel Tower) starring Noémie Merlant (Portrait of a Lady On Fire)\, Zoé Wittock’s empathetic (and erotic) drama makes a claim for people to enjoy love wherever they find it… Screening available in all of France + Australia.\n\n☞THE MOVIE:\n\nObjectum Sexuals: individuals with a preference for inanimate objects. They may feel strong feelings of attraction\, love and commitment to certain items. Some object-sexual individuals also believe that objects have souls\, intelligence\, feelings and are able to communicate.\nJeanne\, a shy young woman\, works at night in an amusement park. Fascinated with carousels\, she still lives with her mother\, the extrovert Margarette. Whereas no man is able to find their place among the rocky and unusual duo\, Jeanne starts to grow an odd relationship with Jumbo\, the park’s new flagship attraction. Soon\, it appears that Jumbo\, a striking and colorful merry-go-round\, starts communicating with her… – Synopsis\n\nWatch the trailer here: https://youtu.be/xcfjTQGTS0s\nWatch Zoé talk about her film here: https://youtu.be/GwjhMYy52GE\n\n☞THE PLAN:\n\nWant to participate? Sign up today on: https://www.25eheure.com/\nSelect « Jumbo »\, L’Entrepôt and the December 4th session.\nAs this is a local e-cinema platform and not a streaming platform\, you will be asked to geolocate yourself\, in order to respect the platform’s charter which limits the radius to France and Australia only. Once you have purchased your e-ticket\, you will receive a connection link by email and all you will have to do is connect on the day of the screening\, a few minutes before the start of the film.\n\nZoe Wittock is destined to make an impact as the next emerging female filmmaker with this stunning surreal directorial debut. Don’t miss your chance to ask her all your questions on December 4th!\n\n The Lost in Frenchlation\, L’Entrepôt and 25e Heure Team
URL:https://lostinfrenchlation.com/event/jumbo
CATEGORIES:Paris
ATTACH;FMTTYPE=image/png:https://lostinfrenchlation.com/wp-content/uploads/Jumbo.png
ORGANIZER;CN="Manon":MAILTO:lostinfrenchlation@gmail.com
END:VEVENT
BEGIN:VEVENT
DTSTART;TZID=Europe/Helsinki:20201211T200000
DTEND;TZID=Europe/Helsinki:20201211T230000
DTSTAMP:20260426T043938
CREATED:20201130T182125Z
LAST-MODIFIED:20250723T093635Z
UID:9508-1607716800-1607727600@lostinfrenchlation.com
SUMMARY:Police
DESCRIPTION:🏆BERLINALE SPECIAL🏆 \n⭐️In the presence of Academy Award winner Payman Maadi⭐️ \n☞ SUMMARY: \n🎞️ FILM: ‘Police’ (« Night Shift ») directed by Anne Fontaine (99min)\n🎬 DATE & TIME: Friday 11th December @8PM\, Q&A with actor Payman Maadi @9:40PM\n📽️ CINEMA: HOME – available anywhere in France! (Partner cinema: Luminor Hôtel de Ville)\n🎟 TICKETS: €5 https://sallevirtuelle.25eheure.com/seance/4043/ \n☞ DETAILS: \nFor our 3rd virtual screening\, we are welcoming a very special guest – Academy Award winner Payman Maadi! Starring Omar Sy (Intouchables)\, “Police” focuses on three Parisian police officers charged with driving a stranger back to the border. According to the statistics\, this is something that happens all too frequently in France\, where nearly 24\,000 people were deported last year alone. Set over the course of 24 hours\, the film explores the perspective of each character and sheds light on their personal lives through flashbacks\, explaining how differently they are handling the moral dilemma. \n☞THE MOVIE: \nVirginie\, Erik and Aristide are police officers. All three try to keep their personal and emotional lives together while dealing with daily incidents of violence in homes and on the streets. One night\, they are assigned an unusual mission: to drive a migrant to the airport for unspecified reasons. On the way there\, Virginie discovers that the man will be sentenced to death if he goes back to his country. Faced with an unbearable dilemma\, she starts to question their mission. The trio has one night to decide a man’s fate. – Synopsis \nNight Shift has an existential\, metaphysical dimension. It tells the story of characters who must decide whether to obey the rules or transgress them\, and find themselves on a human journey. – Variety \nWatch the trailer with English subs here: https://youtu.be/3JPuIEVXN34 \n☞THE PLAN: \nWant to participate? Sign up today on: https://www.25eheure.com/\nSelect « Police »\, Luminor Hôtel de Ville and the December 11th session.\nAs this is a local e-cinema platform and not a streaming platform\, you will be asked to geolocate yourself\, in order to respect the platform’s charter which limits the radius to France only. Once you have purchased your e-ticket\, you will receive a connection link by email and all you will have to do is connect on the day of the screening\, a few minutes before the start of the film. \nDon’t miss « Police »\, probably one of the rare « policiers » in which a single gunshot isn’t fired… and our exclusive Q&A with actor Payman Maadi! \nClick here (https://www.facebook.com/events/3641622382551401/) to see the Facebook Event. \n🎬 The Lost in Frenchlation\, Luminor Hôtel de Ville and 25e Heure Team
URL:https://lostinfrenchlation.com/event/police
CATEGORIES:Paris
ATTACH;FMTTYPE=image/png:https://lostinfrenchlation.com/wp-content/uploads/Police.png
ORGANIZER;CN="Manon":MAILTO:lostinfrenchlation@gmail.com
END:VEVENT
BEGIN:VEVENT
DTSTART;TZID=Europe/Helsinki:20201218T200000
DTEND;TZID=Europe/Helsinki:20201218T220000
DTSTAMP:20260426T043938
CREATED:20201206T091908Z
LAST-MODIFIED:20250723T093635Z
UID:9513-1608321600-1608328800@lostinfrenchlation.com
SUMMARY:8 Femmes
DESCRIPTION:🎄Xmas Special Screening\n🇫🇷 Followed by a French quiz with Marion from Clap Français! \n☞ SUMMARY: \n🎞️ FILM: ‘8 Femmes’ (« 8 Women ») directed by François Ozon (103min)\n🎬 DATE & TIME: Friday 18th December @8PM\, French quiz with Marion from Clap Français @9:45PM\n📽️ CINEMA: HOME – available anywhere in France!\n🎟 TICKETS: €5 https://sallevirtuelle.25eheure.com/seance/4421/ \n☞ DETAILS: \nFor our Christmas special virtual screening\, we’ve picked one of the most uplifting films to emerge from French cinema in recent years: the first Agatha Christie musical starring a roll call of French legends\, all-female cast. The screening will be followed by a French quiz with Marion from Clap Français! \n☞THE MOVIE: \nEight female family members reunite in a remote mansion in the snowy countryside of 1950s France on Christmas Eve. But what should in fact be a glamorous\, social affair becomes a dramatic cutthroat murder mystery as the women discover their beloved patriarch has been killed\, and they are the suspects. – Synopsis \nLight-hearted and droll  even if you think you dont like French films\, you’ll adore this one. – Empire\nCertainly\, no other film thus far has received the same volume of applause. – The Guardian \nWatch the trailer with English subs here: https://youtu.be/-oGQoxZ7lvs \n☞THE PLAN: \nWant to participate? Sign up today on: https://www.25eheure.com/\nSelect « 8 Femmes » and the December 18th session.\nAs this is a local e-cinema platform and not a streaming platform\, you will be asked to geolocate yourself\, in order to respect the platform’s charter which limits the radius to France only. Once you have purchased your e-ticket\, you will receive a connection link by email and all you will have to do is connect on the day of the screening\, a few minutes before the start of the film. \nIf you are yet to see 8 Femmes\, this virtual screening is the perfect excuse to do so. You’ll find proof that females don’t always have to play the supporting roles in films; sometimes it can be just about the women – all eight of them. \nClick here (https://www.facebook.com/events/396142078106038) to see the Facebook Event. \n🎬 The Lost in Frenchlation\, Clap Français and 25e Heure Team
URL:https://lostinfrenchlation.com/event/8-femmes
CATEGORIES:Paris
ATTACH;FMTTYPE=image/png:https://lostinfrenchlation.com/wp-content/uploads/FLYERS-2.png
ORGANIZER;CN="Manon":MAILTO:lostinfrenchlation@gmail.com
END:VEVENT
END:VCALENDAR