BEGIN:VCALENDAR
VERSION:2.0
PRODID:-//Lost in Frenchlation - ECPv6.15.12.2//NONSGML v1.0//EN
CALSCALE:GREGORIAN
METHOD:PUBLISH
X-ORIGINAL-URL:https://lostinfrenchlation.com
X-WR-CALDESC:Events for Lost in Frenchlation
REFRESH-INTERVAL;VALUE=DURATION:PT1H
X-Robots-Tag:noindex
X-PUBLISHED-TTL:PT1H
BEGIN:VTIMEZONE
TZID:Europe/Paris
BEGIN:DAYLIGHT
TZOFFSETFROM:+0100
TZOFFSETTO:+0200
TZNAME:CEST
DTSTART:20250330T010000
END:DAYLIGHT
BEGIN:STANDARD
TZOFFSETFROM:+0200
TZOFFSETTO:+0100
TZNAME:CET
DTSTART:20251026T010000
END:STANDARD
BEGIN:DAYLIGHT
TZOFFSETFROM:+0100
TZOFFSETTO:+0200
TZNAME:CEST
DTSTART:20260329T010000
END:DAYLIGHT
BEGIN:STANDARD
TZOFFSETFROM:+0200
TZOFFSETTO:+0100
TZNAME:CET
DTSTART:20261025T010000
END:STANDARD
BEGIN:DAYLIGHT
TZOFFSETFROM:+0100
TZOFFSETTO:+0200
TZNAME:CEST
DTSTART:20270328T010000
END:DAYLIGHT
BEGIN:STANDARD
TZOFFSETFROM:+0200
TZOFFSETTO:+0100
TZNAME:CET
DTSTART:20271031T010000
END:STANDARD
END:VTIMEZONE
BEGIN:VEVENT
DTSTART;TZID=Europe/Paris:20260330T200000
DTEND;TZID=Europe/Paris:20260330T220000
DTSTAMP:20260420T181200
CREATED:20260318T164844Z
LAST-MODIFIED:20260318T164844Z
UID:13035-1774900800-1774908000@lostinfrenchlation.com
SUMMARY:L'Attachement
DESCRIPTION:☞SUMMARY \n🎞️FILM: “L’Attachement” directed by Carine Tardieu (1h 45m\, 2024) (winner for Best Film at the César award) \n🎬DATE & TIME: Monday\, March 30th\, at 8:15pm  \n📽️CINEMA: Cinéma Le Club\, Rue du Phalanstère 9 B\, 38000 Grenoble \n🎟TICKETS: €7.10 – €8.60  \n☞THE MOVIE:  \nSandra\, a fiercely independent woman in her fifties\, suddenly and unwillingly finds herself drawn into the daily life of her neighbor and his two children. What begins as an unexpected proximity slowly grows into something deeper. \nAgainst all odds\, Sandra forms a tender bond with this unexpected family. Through quiet moments and small gestures\, Carine Tardieu explores how attachment can emerge in the most surprising ways. \nL’Attachement is a delicate story about loneliness\, connection\, and the families we create when we least expect it.
URL:https://lostinfrenchlation.com/event/lattachement-2
LOCATION:Le Club\, 9 bis Rue du Phalanstère\, Grenoble\, 38000\, France
CATEGORIES:Grenoble
ATTACH;FMTTYPE=image/jpeg:https://lostinfrenchlation.com/wp-content/uploads/2026/03/attachement_doc120_2025_web-600x815-1.jpg
ORGANIZER;CN="Manon":MAILTO:lostinfrenchlation@gmail.com
END:VEVENT
END:VCALENDAR