BEGIN:VCALENDAR
VERSION:2.0
PRODID:-//Lost in Frenchlation - ECPv6.15.12.2//NONSGML v1.0//EN
CALSCALE:GREGORIAN
METHOD:PUBLISH
X-ORIGINAL-URL:https://lostinfrenchlation.com
X-WR-CALDESC:Events for Lost in Frenchlation
REFRESH-INTERVAL;VALUE=DURATION:PT1H
X-Robots-Tag:noindex
X-PUBLISHED-TTL:PT1H
BEGIN:VTIMEZONE
TZID:Europe/Paris
BEGIN:DAYLIGHT
TZOFFSETFROM:+0100
TZOFFSETTO:+0200
TZNAME:CEST
DTSTART:20250330T010000
END:DAYLIGHT
BEGIN:STANDARD
TZOFFSETFROM:+0200
TZOFFSETTO:+0100
TZNAME:CET
DTSTART:20251026T010000
END:STANDARD
BEGIN:DAYLIGHT
TZOFFSETFROM:+0100
TZOFFSETTO:+0200
TZNAME:CEST
DTSTART:20260329T010000
END:DAYLIGHT
BEGIN:STANDARD
TZOFFSETFROM:+0200
TZOFFSETTO:+0100
TZNAME:CET
DTSTART:20261025T010000
END:STANDARD
BEGIN:DAYLIGHT
TZOFFSETFROM:+0100
TZOFFSETTO:+0200
TZNAME:CEST
DTSTART:20270328T010000
END:DAYLIGHT
BEGIN:STANDARD
TZOFFSETFROM:+0200
TZOFFSETTO:+0100
TZNAME:CET
DTSTART:20271031T010000
END:STANDARD
END:VTIMEZONE
BEGIN:VEVENT
DTSTART;TZID=Europe/Paris:20260223T200000
DTEND;TZID=Europe/Paris:20260223T220000
DTSTAMP:20260420T181311
CREATED:20260203T164416Z
LAST-MODIFIED:20260203T164416Z
UID:12870-1771876800-1771884000@lostinfrenchlation.com
SUMMARY:Gourou
DESCRIPTION:☞SUMMARY \n🎞️FILM: “Gourou” directed by Yann Gozlan (2h 6m\, 2026) \n🎬DATE & TIME: Monday\, February 23th\, at 8:15pm \n📽️CINEMA: Cinéma Le Club\, Rue du Phalanstère 9 B\, 38000 Grenoble \n🎟TICKETS: €7.10 – €8.60 https://www.cinemaleclub.com/detail-evenement-1230 \n☞THE MOVIE:  \nAn influential French life coach finds his livelihood under threat in Gourou\, a lacklustre thriller that fails to make its scheming protagonist deliciously devious. Director Yann Gozlan taps frequent collaborator Pierre Niney to play a self-help guru who seemingly believes in the compassionate\, affirmative message he’s selling to his loyal fans — that is\, until his empire comes under attack by a proposed new law that will severely regulate his industry. As an exploration of modern-day cults and self-proclaimed messiahs\, the film mostly preaches to the choir. \nWatch the trailer:  \nhttps://youtu.be/fJPl2vIVyQo?si=fmsAJsr8-kHyfRqB \n☞ What is Lost in Frenchlation? \n“Cinema is an opening to the world and we open up the world to our cinema” – Experience France’s cinema culture\, without the language barrier! Lost in Frenchlation gives the international community access to the best of French cinema by organizing screenings of French films with English subtitles and independent cinemas. \n🎬 The Club Cinéma & Lost in Frenchlation team
URL:https://lostinfrenchlation.com/event/gourou
CATEGORIES:Grenoble
ATTACH;FMTTYPE=image/jpeg:https://lostinfrenchlation.com/wp-content/uploads/2026/02/70e9dfd918886ca3ea4e1088f06f659c.jpg
END:VEVENT
END:VCALENDAR