BEGIN:VCALENDAR
VERSION:2.0
PRODID:-//Lost in Frenchlation - ECPv6.15.12.2//NONSGML v1.0//EN
CALSCALE:GREGORIAN
METHOD:PUBLISH
X-WR-CALNAME:Lost in Frenchlation
X-ORIGINAL-URL:https://lostinfrenchlation.com
X-WR-CALDESC:Events for Lost in Frenchlation
REFRESH-INTERVAL;VALUE=DURATION:PT1H
X-Robots-Tag:noindex
X-PUBLISHED-TTL:PT1H
BEGIN:VTIMEZONE
TZID:Europe/Paris
BEGIN:DAYLIGHT
TZOFFSETFROM:+0100
TZOFFSETTO:+0200
TZNAME:CEST
DTSTART:20240331T010000
END:DAYLIGHT
BEGIN:STANDARD
TZOFFSETFROM:+0200
TZOFFSETTO:+0100
TZNAME:CET
DTSTART:20241027T010000
END:STANDARD
BEGIN:DAYLIGHT
TZOFFSETFROM:+0100
TZOFFSETTO:+0200
TZNAME:CEST
DTSTART:20250330T010000
END:DAYLIGHT
BEGIN:STANDARD
TZOFFSETFROM:+0200
TZOFFSETTO:+0100
TZNAME:CET
DTSTART:20251026T010000
END:STANDARD
BEGIN:DAYLIGHT
TZOFFSETFROM:+0100
TZOFFSETTO:+0200
TZNAME:CEST
DTSTART:20260329T010000
END:DAYLIGHT
BEGIN:STANDARD
TZOFFSETFROM:+0200
TZOFFSETTO:+0100
TZNAME:CET
DTSTART:20261025T010000
END:STANDARD
END:VTIMEZONE
BEGIN:VEVENT
DTSTART;TZID=Europe/Paris:20251124T200000
DTEND;TZID=Europe/Paris:20251124T220000
DTSTAMP:20260421T005731
CREATED:20251115T081029Z
LAST-MODIFIED:20251115T081029Z
UID:12695-1764014400-1764021600@lostinfrenchlation.com
SUMMARY:Cléo de 5 à 7
DESCRIPTION:✨LOST IN FRENCHLATION AT CINEMA LE CLUB GRENOBLE ✨ \nCLÉO DE 5 À 7  \n☞SUMMARY: \n🎞️FILM:”Cléo de 5 à 7” directed by Agnès Varda (1h 30min\, 1962) \n🎬DATE & TIME: Monday\, November 24th\, at 8:15pm + get a drink for a reduced price after showing your movie ticket at the bar L’ID3 before the film! \n📽️CINEMA: Cinéma Le Club\, Rue du Phalanstère 9 B\, 38000 Grenoble \n🎟TICKETS: €7.10 – €8.60 https://www.cinemaleclub.com/film–1191.html \n☞THE MOVIE:  \n“Selfish pop singer Cléo (Corinne Marchand) has two hours to wait until the results of her biopsy come back. After an ominous tarot card reading\, she visits her friends\, all of whom fail to give her the emotional support she needs. Wandering around Paris\, she finally finds comfort talking with a soldier in a park. On leave from the Algerian War\, his troubles put hers in perspective. As they talk and walk\, Cléo comes to terms with her selfishness\, finding peace before the results come back.” – Synopsis \n“The sheer delightfulness of Cléo from 5 to 7 comes down to execution\, its form and aesthetic born from the coolest cinema movement of them all: the French New Wave\, to which the legendary Varda was a key contributor.” – The Guardian \n☞ What is Lost in Frenchlation? \n“Cinema is an opening to the world and we open up the world to our cinema” – Experience France’s cinema culture\, without the language barrier! Lost in Frenchlation gives the international community access to the best of French cinema by organizing screenings of French films with English subtitles and independent cinemas. \n🎬 The Club Cinéma & Lost in Frenchlation team \n 
URL:https://lostinfrenchlation.com/event/cleo-de-5-a-7-2
LOCATION:Le Club\, 9 bis Rue du Phalanstère\, Grenoble\, 38000\, France
CATEGORIES:Grenoble
ATTACH;FMTTYPE=image/jpeg:https://lostinfrenchlation.com/wp-content/uploads/2025/11/fd6377ce7b880bb0929cab6b22b20d65.jpg
ORGANIZER;CN="Manon":MAILTO:lostinfrenchlation@gmail.com
END:VEVENT
END:VCALENDAR