BEGIN:VCALENDAR
VERSION:2.0
PRODID:-//Lost in Frenchlation - ECPv6.15.12.2//NONSGML v1.0//EN
CALSCALE:GREGORIAN
METHOD:PUBLISH
X-ORIGINAL-URL:https://lostinfrenchlation.com
X-WR-CALDESC:Events for Lost in Frenchlation
REFRESH-INTERVAL;VALUE=DURATION:PT1H
X-Robots-Tag:noindex
X-PUBLISHED-TTL:PT1H
BEGIN:VTIMEZONE
TZID:Europe/Paris
BEGIN:DAYLIGHT
TZOFFSETFROM:+0100
TZOFFSETTO:+0200
TZNAME:CEST
DTSTART:20240331T010000
END:DAYLIGHT
BEGIN:STANDARD
TZOFFSETFROM:+0200
TZOFFSETTO:+0100
TZNAME:CET
DTSTART:20241027T010000
END:STANDARD
BEGIN:DAYLIGHT
TZOFFSETFROM:+0100
TZOFFSETTO:+0200
TZNAME:CEST
DTSTART:20250330T010000
END:DAYLIGHT
BEGIN:STANDARD
TZOFFSETFROM:+0200
TZOFFSETTO:+0100
TZNAME:CET
DTSTART:20251026T010000
END:STANDARD
BEGIN:DAYLIGHT
TZOFFSETFROM:+0100
TZOFFSETTO:+0200
TZNAME:CEST
DTSTART:20260329T010000
END:DAYLIGHT
BEGIN:STANDARD
TZOFFSETFROM:+0200
TZOFFSETTO:+0100
TZNAME:CET
DTSTART:20261025T010000
END:STANDARD
END:VTIMEZONE
BEGIN:VEVENT
DTSTART;TZID=Europe/Paris:20251027T200000
DTEND;TZID=Europe/Paris:20251027T220000
DTSTAMP:20260421T005807
CREATED:20251004T075321Z
LAST-MODIFIED:20251004T075321Z
UID:12586-1761595200-1761602400@lostinfrenchlation.com
SUMMARY:Anatomie d'une Chute
DESCRIPTION:“A woman is suspected of murder after her husband’s death; their half-blind son faces a moral dilemma as the main witness.” – Synopsis\n\n“The courtroom drama here is electric\, restlessly dynamic and compulsively watchable.” – The Guardian
URL:https://lostinfrenchlation.com/event/anatomie-dune-chute-6
LOCATION:Le Club\, 9 bis Rue du Phalanstère\, Grenoble\, 38000\, France
CATEGORIES:Grenoble
ATTACH;FMTTYPE=image/jpeg:https://lostinfrenchlation.com/wp-content/uploads/7E48AA99-3BE5-4F1E-A5EF-BC96E73D9059.jpeg
ORGANIZER;CN="Manon":MAILTO:lostinfrenchlation@gmail.com
END:VEVENT
END:VCALENDAR