BEGIN:VCALENDAR
VERSION:2.0
PRODID:-//Lost in Frenchlation - ECPv6.15.12.2//NONSGML v1.0//EN
CALSCALE:GREGORIAN
METHOD:PUBLISH
X-WR-CALNAME:Lost in Frenchlation
X-ORIGINAL-URL:https://lostinfrenchlation.com
X-WR-CALDESC:Events for Lost in Frenchlation
REFRESH-INTERVAL;VALUE=DURATION:PT1H
X-Robots-Tag:noindex
X-PUBLISHED-TTL:PT1H
BEGIN:VTIMEZONE
TZID:Europe/Paris
BEGIN:DAYLIGHT
TZOFFSETFROM:+0100
TZOFFSETTO:+0200
TZNAME:CEST
DTSTART:20240331T010000
END:DAYLIGHT
BEGIN:STANDARD
TZOFFSETFROM:+0200
TZOFFSETTO:+0100
TZNAME:CET
DTSTART:20241027T010000
END:STANDARD
BEGIN:DAYLIGHT
TZOFFSETFROM:+0100
TZOFFSETTO:+0200
TZNAME:CEST
DTSTART:20250330T010000
END:DAYLIGHT
BEGIN:STANDARD
TZOFFSETFROM:+0200
TZOFFSETTO:+0100
TZNAME:CET
DTSTART:20251026T010000
END:STANDARD
BEGIN:DAYLIGHT
TZOFFSETFROM:+0100
TZOFFSETTO:+0200
TZNAME:CEST
DTSTART:20260329T010000
END:DAYLIGHT
BEGIN:STANDARD
TZOFFSETFROM:+0200
TZOFFSETTO:+0100
TZNAME:CET
DTSTART:20261025T010000
END:STANDARD
END:VTIMEZONE
BEGIN:VEVENT
DTSTART;TZID=Europe/Paris:20250731T201500
DTEND;TZID=Europe/Paris:20250731T223000
DTSTAMP:20260421T050419
CREATED:20250723T131039Z
LAST-MODIFIED:20250730T083938Z
UID:12092-1753992900-1754001000@lostinfrenchlation.com
SUMMARY:Intouchables\, Grenoble
DESCRIPTION:“Intouchables” directed by Olivier Nakache and Éric Toledano (1h 52m) in French with English subtitles \n“Following a paragliding accident\, Philippe\, a rich aristocrat\, hires Driss\, a young man from the suburbs just released from prison\, as a home helper… In short\, the least suitable person for the job. Together they will make Vivaldi and Earth Wind and Fire coexist\, the word and the joke\, the costumes and the tracksuit bottoms… Two universes will telescope\, tame each other\, to give birth to a friendship as crazy\, funny and strong as unexpected\, a unique relationship that will spark and make them… Untouchable.” — Synopsis \n“It is possible to summarize the experience of watching “The Intouchables” in nine words: You will laugh; you will cry; you will cringe. The caricatures are astonishingly brazen\, as ancient comic archetypes — a pompous master and a clowning servant right out of Molière — are updated with vague social relevance\, an overlay of Hollywood-style sentimentality and a conception of race that might kindly be called cartoonish.” — The New York Times
URL:https://lostinfrenchlation.com/event/intouchables-grenoble
LOCATION:Le Club\, 9 bis Rue du Phalanstère\, Grenoble\, 38000\, France
CATEGORIES:Grenoble
ATTACH;FMTTYPE=image/webp:https://lostinfrenchlation.com/wp-content/uploads/bb329562d3c57e325dcb4ba23425c3e3-2.webp
ORGANIZER;CN="Manon":MAILTO:lostinfrenchlation@gmail.com
END:VEVENT
END:VCALENDAR